BEGIN:VCALENDAR
VERSION:2.0
PRODID:-//Tukios.com/
BEGIN:VEVENT
UID:aeb15c38-5791-4836-b418-ad11aecd2bb1@www.steuernolmclaren.com
DTSTAMP:20260420T200233Z
DTSTART:20260423T190000Z
DTEND:20260424T010000Z
SUMMARY:Viewing
DESCRIPTION:
URL:https://www.steuernolmclaren.com/obituaries/heather-kearns
LOCATION:Steuernol and McLaren Funeral Home 109 East Houghton Avenue  
	West Branch MI 48661
GEO:44.2765883;-84.2353712
END:VEVENT
END:VCALENDAR