BEGIN:VCALENDAR
VERSION:2.0
PRODID:-//Tukios.com/
BEGIN:VEVENT
UID:3d2a89cd-5269-42ff-b00a-cec1485364b5@www.steuernolmclaren.com
DTSTAMP:20260420T200534Z
DTSTART:20260424T150000Z
DTEND:20260424T160000Z
SUMMARY:Funeral Service
DESCRIPTION:
URL:https://www.steuernolmclaren.com/obituaries/heather-kearns
LOCATION:Faith Alive Church 2945 Hansen Road  West Branch MI 48661
GEO:44.2656682;-84.2440965
END:VEVENT
END:VCALENDAR