BEGIN:VCALENDAR
VERSION:2.0
PRODID:-//Tukios.com/
BEGIN:VEVENT
UID:483a3d04-7b0e-4be9-9749-017faa29b53d@www.steuernolmclaren.com
DTSTAMP:20260420T200904Z
DTSTART:20260424T140000Z
DTEND:20260424T150000Z
SUMMARY:Visitation
DESCRIPTION:
URL:https://www.steuernolmclaren.com/obituaries/heather-kearns
LOCATION: 2945 Hansen Road  West Branch MI 48661
GEO:44.2656682;-84.2440965
END:VEVENT
END:VCALENDAR