BEGIN:VCALENDAR
VERSION:2.0
PRODID:-//Tukios.com/
BEGIN:VEVENT
UID:351415bb-be4f-4545-aeb5-eb12fa3cdf88@www.steuernolmclaren.com
DTSTAMP:20260421T055648Z
DTSTART:20260530T173000Z
DTEND:20260530T213000Z
SUMMARY:Celebration of Life
DESCRIPTION:
URL:https://www.steuernolmclaren.com/obituaries/lori-bloss
LOCATION: 3380 Lupton Road  Lupton MI 48635
GEO:44.4325932;-84.0252103
END:VEVENT
END:VCALENDAR