BEGIN:VCALENDAR
VERSION:2.0
PRODID:-//Tukios.com/
BEGIN:VEVENT
UID:ac0a4df2-f59f-40b0-adc4-e733fc9393ee@www.steuernolmclaren.com
DTSTAMP:20260420T024826Z
DTSTART:20260606T160000Z
DTEND:20260606T170000Z
SUMMARY:Celebration of Life
DESCRIPTION:
URL:https://www.steuernolmclaren.com/obituaries/marian-krasa
LOCATION:Prince of Peace Lutheran Church 165 East Sage Lake Road  Rose 
	City MI 48654
GEO:44.3643759;-84.1195581
END:VEVENT
END:VCALENDAR