BEGIN:VCALENDAR
VERSION:2.0
PRODID:-//Tukios.com/
BEGIN:VEVENT
UID:384595c1-ef52-4fd6-a9cb-8a9cb0080d8e@www.steuernolmclaren.com
DTSTAMP:20260421T202141Z
DTSTART:20260425T210000Z
DTEND:20260426T000000Z
SUMMARY:Visitation
DESCRIPTION:
URL:https://www.steuernolmclaren.com/obituaries/raymond-bedtelyon
LOCATION: 109 E Houghton Ave  West Branch MI 48661
GEO:44.2765883;-84.2353712
END:VEVENT
END:VCALENDAR