BEGIN:VCALENDAR
VERSION:2.0
PRODID:-//Tukios.com/
BEGIN:VEVENT
UID:8600f9a3-d8ba-4169-ace6-064109572512@www.steuernolmclaren.com
DTSTAMP:20260421T201926Z
DTSTART:20260426T160000Z
DTEND:20260426T170000Z
SUMMARY:Visitation
DESCRIPTION:
URL:https://www.steuernolmclaren.com/obituaries/raymond-bedtelyon
LOCATION: 3480 W. M-76  West Branch MI 48661
GEO:44.2337878;-84.1974151
END:VEVENT
END:VCALENDAR