BEGIN:VCALENDAR
VERSION:2.0
PRODID:-//Tukios.com/
BEGIN:VEVENT
UID:497f5d0e-e73a-4253-8c8f-fa1b77594b13@www.steuernolmclaren.com
DTSTAMP:20260421T202134Z
DTSTART:20260426T170000Z
DTEND:20260426T180000Z
SUMMARY:Funeral Service
DESCRIPTION:
URL:https://www.steuernolmclaren.com/obituaries/raymond-bedtelyon
LOCATION: 3480 W. M-76  West Branch MI 48661
GEO:44.2337878;-84.1974151
END:VEVENT
END:VCALENDAR