BEGIN:VCALENDAR
VERSION:2.0
PRODID:-//Tukios.com/
BEGIN:VEVENT
UID:572ece87-5e15-4a46-b22f-988aa151145b@www.steuernolmclaren.com
DTSTAMP:20260421T202141Z
DTSTART:20260501T150000Z
DTEND:20260501T160000Z
SUMMARY:Burial
DESCRIPTION:
URL:https://www.steuernolmclaren.com/obituaries/raymond-bedtelyon
LOCATION: S. Campbell Road  West Branch MI 48661
GEO:44.30846552;-84.14623297
END:VEVENT
END:VCALENDAR