BEGIN:VCALENDAR
VERSION:2.0
PRODID:-//Tukios.com/
BEGIN:VEVENT
UID:2e904284-88f2-45a6-a383-a4c931892261@www.steuernolmclaren.com
DTSTAMP:20260424T194935Z
DTSTART:20260517T153000Z
DTEND:20260517T183000Z
SUMMARY:Celebration of Life
DESCRIPTION:
URL:https://www.steuernolmclaren.com/obituaries/robert-hude
LOCATION:Knights of Columbus 751 M-18  Gladwin MI 48624
GEO:43.9667948;-84.5044007
END:VEVENT
END:VCALENDAR