BEGIN:VCALENDAR
VERSION:2.0
PRODID:-//Tukios.com/
BEGIN:VEVENT
UID:6ba56871-0501-4fb7-b83b-00c1b4e7f6f2@www.steuernolmclaren.com
DTSTAMP:20260420T080500Z
DTSTART:20260614T160000Z
DTEND:20260614T200000Z
SUMMARY:Celebration of Life
DESCRIPTION:
URL:https://www.steuernolmclaren.com/obituaries/robert-wiles
LOCATION:Tolfree Wellness Park 2463 M-30  West Branch MI 48661
GEO:44.2636092;-84.2453103
END:VEVENT
END:VCALENDAR